Workbook

Sheet Info
A1: Navn
A2: CPR-nummer | AE2: =A2&" "&B2 -> CPR-nummer
A6: Periode | B6: Høj sats | C6: Lav sats | D6: Reg. nr. | E6: Periode km. | F6: km i alt | G6: km i alt høj sats | H6: km i alt lav sats | I6: periode høj sats | J6: periode lav sats
A7: 1 | B7: 3.94 | C7: 2.28 | E7: ='1'!F24 -> 0 | F7: =E7 -> 0 | G7: =IF(F7<20000,F7,20000) -> 0 | H7: =IF(F7>20000,F7-20000,0) -> 0 | I7: =G7 -> 0 | J7: =H7 -> 0
A8: 2 | B8: =B7 -> 3.94 | C8: =C7 -> 2.28 | E8: ='2'!F24 -> 0 | F8: =F7+E8 -> 0 | G8: =IF(F8<20000,F8,20000) -> 0 | H8: =IF(F8>20000,F8-20000,0) -> 0 | I8: =G8-I7 -> 0 | J8: =H8-J7 -> 0
A9: 3 | B9: =B8 -> 3.94 | C9: =C8 -> 2.28 | E9: ='3'!F24 -> 0 | F9: =F8+E9 -> 0 | G9: =IF(F9<20000,F9,20000) -> 0 | H9: =IF(F9>20000,F9-20000,0) -> 0 | I9: =G9-SUM(I7:I8) -> 0 | J9: =H9-SUM(J7:J8) -> 0
A10: 4 | B10: =B9 -> 3.94 | C10: =C9 -> 2.28 | E10: ='4'!F24 -> 0 | F10: =F9+E10 -> 0 | G10: =IF(F10<20000,F10,20000) -> 0 | H10: =IF(F10>20000,F10-20000,0) -> 0 | I10: =G10-SUM(I7:I9) -> 0 | J10: =H10-SUM(J7:J9) -> 0
A11: 5 | B11: =B10 -> 3.94 | C11: =C10 -> 2.28 | E11: ='5'!F24 -> 0 | F11: =F10+E11 -> 0 | G11: =IF(F11<20000,F11,20000) -> 0 | H11: =IF(F11>20000,F11-20000,0) -> 0 | I11: =G11-SUM(I7:I10) -> 0 | J11: =H11-SUM(J7:J10) -> 0
A12: 6 | B12: =B11 -> 3.94 | C12: =C11 -> 2.28 | E12: ='6'!F24 -> 0 | F12: =F11+E12 -> 0 | G12: =IF(F12<20000,F12,20000) -> 0 | H12: =IF(F12>20000,F12-20000,0) -> 0 | I12: =G12-SUM(I7:I11) -> 0 | J12: =H12-SUM(J7:J11) -> 0
A13: 7 | B13: =B12 -> 3.94 | C13: =C12 -> 2.28 | E13: ='7'!F24 -> 0 | F13: =F12+E13 -> 0 | G13: =IF(F13<20000,F13,20000) -> 0 | H13: =IF(F13>20000,F13-20000,0) -> 0 | I13: =G13-SUM(I7:I12) -> 0 | J13: =H13-SUM(J7:J12) -> 0
A14: 8 | B14: =B13 -> 3.94 | C14: =C13 -> 2.28 | E14: ='8'!F24 -> 0 | F14: =F13+E14 -> 0 | G14: =IF(F14<20000,F14,20000) -> 0 | H14: =IF(F14>20000,F14-20000,0) -> 0 | I14: =G14-SUM(I7:I13) -> 0 | J14: =H14-SUM(J7:J13) -> 0
A15: 9 | B15: =B14 -> 3.94 | C15: =C14 -> 2.28 | E15: ='9'!F24 -> 0 | F15: =F14+E15 -> 0 | G15: =IF(F15<20000,F15,20000) -> 0 | H15: =IF(F15>20000,F15-20000,0) -> 0 | I15: =G15-SUM(I7:I14) -> 0 | J15: =H15-SUM(J7:J14) -> 0
A16: 10 | B16: =B15 -> 3.94 | C16: =C15 -> 2.28 | E16: ='10'!F24 -> 0 | F16: =F15+E16 -> 0 | G16: =IF(F16<20000,F16,20000) -> 0 | H16: =IF(F16>20000,F16-20000,0) -> 0 | I16: =G16-SUM(I7:I15) -> 0 | J16: =H16-SUM(J7:J15) -> 0
A17: 11 | B17: =B16 -> 3.94 | C17: =C16 -> 2.28 | E17: ='11'!F24 -> 0 | F17: =F16+E17 -> 0 | G17: =IF(F17<20000,F17,20000) -> 0 | H17: =IF(F17>20000,F17-20000,0) -> 0 | I17: =G17-SUM(I7:I16) -> 0 | J17: =H17-SUM(J7:J16) -> 0
A18: 12 | B18: =B17 -> 3.94 | C18: =C17 -> 2.28 | E18: ='12'!F24 -> 0 | F18: =F17+E18 -> 0 | G18: =IF(F18<20000,F18,20000) -> 0 | H18: =IF(F18>20000,F18-20000,0) -> 0 | I18: =G18-SUM(I7:I17) -> 0 | J18: =H18-SUM(J7:J17) -> 0
A19: 13 | B19: =B18 -> 3.94 | C19: =C18 -> 2.28 | E19: ='13'!F24 -> 0 | F19: =F18+E19 -> 0 | G19: =IF(F19<20000,F19,20000) -> 0 | H19: =IF(F19>20000,F19-20000,0) -> 0 | I19: =G19-SUM(I7:I18) -> 0 | J19: =H19-SUM(J7:J18) -> 0
A20: 14 | B20: =B19 -> 3.94 | C20: =C19 -> 2.28 | E20: ='14'!F24 -> 0 | F20: =F19+E20 -> 0 | G20: =IF(F20<20000,F20,20000) -> 0 | H20: =IF(F20>20000,F20-20000,0) -> 0 | I20: =G20-SUM(I7:I19) -> 0 | J20: =H20-SUM(J7:J19) -> 0
A21: 15 | B21: =B20 -> 3.94 | C21: =C20 -> 2.28 | E21: ='15'!F24 -> 0 | F21: =F20+E21 -> 0 | G21: =IF(F21<20000,F21,20000) -> 0 | H21: =IF(F21>20000,F21-20000,0) -> 0 | I21: =G21-SUM(I7:I20) -> 0 | J21: =H21-SUM(J7:J20) -> 0
A22: 16 | B22: =B21 -> 3.94 | C22: =C21 -> 2.28 | E22: ='16'!F24 -> 0 | F22: =F21+E22 -> 0 | G22: =IF(F22<20000,F22,20000) -> 0 | H22: =IF(F22>20000,F22-20000,0) -> 0 | I22: =G22-SUM(I7:I21) -> 0 | J22: =H22-SUM(J7:J21) -> 0
A23: 17 | B23: =B22 -> 3.94 | C23: =C22 -> 2.28 | E23: ='17'!F24 -> 0 | F23: =F22+E23 -> 0 | G23: =IF(F23<20000,F23,20000) -> 0 | H23: =IF(F23>20000,F23-20000,0) -> 0 | I23: =G23-SUM(I7:I22) -> 0 | J23: =H23-SUM(J7:J22) -> 0
A24: 18 | B24: =B23 -> 3.94 | C24: =C23 -> 2.28 | E24: ='18'!F24 -> 0 | F24: =F23+E24 -> 0 | G24: =IF(F24<20000,F24,20000) -> 0 | H24: =IF(F24>20000,F24-20000,0) -> 0 | I24: =G24-SUM(I7:I23) -> 0 | J24: =H24-SUM(J7:J23) -> 0
A25: 19 | B25: =B24 -> 3.94 | C25: =C24 -> 2.28 | E25: ='19'!F24 -> 0 | F25: =F24+E25 -> 0 | G25: =IF(F25<20000,F25,20000) -> 0 | H25: =IF(F25>20000,F25-20000,0) -> 0 | I25: =G25-SUM(I7:I24) -> 0 | J25: =H25-SUM(J7:J24) -> 0
A26: 20 | B26: =B25 -> 3.94 | C26: =C25 -> 2.28 | E26: ='20'!F24 -> 0 | F26: =F25+E26 -> 0 | G26: =IF(F26<20000,F26,20000) -> 0 | H26: =IF(F26>20000,F26-20000,0) -> 0 | I26: =G26-SUM(I7:I25) -> 0 | J26: =H26-SUM(J7:J25) -> 0
A28: Bemærk: du kan kun taste i de gule felter
A30: Vejledning:
A31: Indsæt dit navn og dit CPR-nummer øverst.
A32: Ret satserne, hvis de ikke er rigtige. Skal indsættes for hver periode, så det er muligt at have forskellige satser i løbet af et år, hvis disse skulle blive ændret.
A33: Indsæt bilens registreringsnummer. Det er muligt at have forskellige numre i løbet af et år (men kun én i hver periode), hvis bilen skiftes i løbet af året.

Sheet 1
A1: KØREBOG | B1: =Info!B1 -> 0 | C1: =Info!AE2 -> CPR-nummer | E1: Reg. nr. | F1: =Info!D7 -> 0
A3: Dato | B3: Til | C3: Formål | D3: Fra | E3: Til | F3: Km
F4: =IF(E4="","",E4-D4)
F5: =IF(E5="","",E5-D5)
F6: =IF(E6="","",E6-D6)
F7: =IF(E7="","",E7-D7)
F8: =IF(E8="","",E8-D8)
F9: =IF(E9="","",E9-D9)
F10: =IF(E10="","",E10-D10)
F11: =IF(E11="","",E11-D11)
F12: =IF(E12="","",E12-D12)
F13: =IF(E13="","",E13-D13)
F14: =IF(E14="","",E14-D14)
F15: =IF(E15="","",E15-D15)
... F23: =IF(E23="","",E23-D23)
E24: Km i alt | F24: =SUM(F4:F23) -> 0
C26: Km denne periode med høj sats | D26: =Info!I7 -> 0 | E26: =Info!B7 -> 3.94 | F26: =D26*E26 -> 0
C27: Km denne periode med lav sats | D27: =Info!J7 -> 0 | E27: =Info!C7 -> 2.28 | F27: =D27*E27 -> 0
D29: =SUM(D26:D28) -> 0 | F29: =SUM(F26:F28) -> 0
C33: underskrift arbejdsgiver
C36: underskrift medarbejder

Sheet 2
A1: KØREBOG | B1: =Info!B1 -> 0 | C1: =Info!AE2 -> CPR-nummer | E1: Reg. nr. | F1: =Info!D7 -> 0
A3: Dato | B3: Til | C3: Formål | D3: Fra | E3: Til | F3: Km
F4: =IF(E4="","",E4-D4)
F5: =IF(E5="","",E5-D5)
F6: =IF(E6="","",E6-D6)
F7: =IF(E7="","",E7-D7)
F8: =IF(E8="","",E8-D8)
F9: =IF(E9="","",E9-D9)
F10: =IF(E10="","",E10-D10)
F11: =IF(E11="","",E11-D11)
F12: =IF(E12="","",E12-D12)
F13: =IF(E13="","",E13-D13)
F14: =IF(E14="","",E14-D14)
F15: =IF(E15="","",E15-D15)
... F23: =IF(E23="","",E23-D23)
E24: Km i alt | F24: =SUM(F4:F23) -> 0
C26: Km denne periode med høj sats | D26: =Info!I8 -> 0 | E26: =Info!B7 -> 3.94 | F26: =D26*E26 -> 0
C27: Km denne periode med lav sats | D27: =Info!J8 -> 0 | E27: =Info!C7 -> 2.28 | F27: =D27*E27 -> 0
D29: =SUM(D26:D28) -> 0 | F29: =SUM(F26:F28) -> 0
C33: underskrift arbejdsgiver
C36: underskrift medarbejder

Sheet 3
A1: KØREBOG | B1: =Info!B1 -> 0 | C1: =Info!AE2 -> CPR-nummer | E1: Reg. nr. | F1: =Info!D7 -> 0
A3: Dato | B3: Til | C3: Formål | D3: Fra | E3: Til | F3: Km
F4: =IF(E4="","",E4-D4)
F5: =IF(E5="","",E5-D5)
F6: =IF(E6="","",E6-D6)
F7: =IF(E7="","",E7-D7)
F8: =IF(E8="","",E8-D8)
F9: =IF(E9="","",E9-D9)
F10: =IF(E10="","",E10-D10)
F11: =IF(E11="","",E11-D11)
F12: =IF(E12="","",E12-D12)
F13: =IF(E13="","",E13-D13)
F14: =IF(E14="","",E14-D14)
F15: =IF(E15="","",E15-D15)
... F23: =IF(E23="","",E23-D23)
E24: Km i alt | F24: =SUM(F4:F23) -> 0
C26: Km denne periode med høj sats | D26: =Info!I9 -> 0 | E26: =Info!B7 -> 3.94 | F26: =D26*E26 -> 0
C27: Km denne periode med lav sats | D27: =Info!J9 -> 0 | E27: =Info!C7 -> 2.28 | F27: =D27*E27 -> 0
D29: =SUM(D26:D28) -> 0 | F29: =SUM(F26:F28) -> 0
C33: underskrift arbejdsgiver
C36: underskrift medarbejder

Sheet 4
A1: KØREBOG | B1: =Info!B1 -> 0 | C1: =Info!AE2 -> CPR-nummer | E1: Reg. nr. | F1: =Info!D7 -> 0
A3: Dato | B3: Til | C3: Formål | D3: Fra | E3: Til | F3: Km
F4: =IF(E4="","",E4-D4)
F5: =IF(E5="","",E5-D5)
F6: =IF(E6="","",E6-D6)
F7: =IF(E7="","",E7-D7)
F8: =IF(E8="","",E8-D8)
F9: =IF(E9="","",E9-D9)
F10: =IF(E10="","",E10-D10)
F11: =IF(E11="","",E11-D11)
F12: =IF(E12="","",E12-D12)
F13: =IF(E13="","",E13-D13)
F14: =IF(E14="","",E14-D14)
F15: =IF(E15="","",E15-D15)
... F23: =IF(E23="","",E23-D23)
E24: Km i alt | F24: =SUM(F4:F23) -> 0
C26: Km denne periode med høj sats | D26: =Info!I10 -> 0 | E26: =Info!B7 -> 3.94 | F26: =D26*E26 -> 0
C27: Km denne periode med lav sats | D27: =Info!J10 -> 0 | E27: =Info!C7 -> 2.28 | F27: =D27*E27 -> 0
D29: =SUM(D26:D28) -> 0 | F29: =SUM(F26:F28) -> 0
C33: underskrift arbejdsgiver
C36: underskrift medarbejder

Sheet 5
A1: KØREBOG | B1: =Info!B1 -> 0 | C1: =Info!AE2 -> CPR-nummer | E1: Reg. nr. | F1: =Info!D7 -> 0
A3: Dato | B3: Til | C3: Formål | D3: Fra | E3: Til | F3: Km
F4: =IF(E4="","",E4-D4)
F5: =IF(E5="","",E5-D5)
F6: =IF(E6="","",E6-D6)
F7: =IF(E7="","",E7-D7)
F8: =IF(E8="","",E8-D8)
F9: =IF(E9="","",E9-D9)
F10: =IF(E10="","",E10-D10)
F11: =IF(E11="","",E11-D11)
F12: =IF(E12="","",E12-D12)
F13: =IF(E13="","",E13-D13)
F14: =IF(E14="","",E14-D14)
F15: =IF(E15="","",E15-D15)
... F23: =IF(E23="","",E23-D23)
E24: Km i alt | F24: =SUM(F4:F23) -> 0
C26: Km denne periode med høj sats | D26: =Info!I11 -> 0 | E26: =Info!B7 -> 3.94 | F26: =D26*E26 -> 0
C27: Km denne periode med lav sats | D27: =Info!J11 -> 0 | E27: =Info!C7 -> 2.28 | F27: =D27*E27 -> 0
D29: =SUM(D26:D28) -> 0 | F29: =SUM(F26:F28) -> 0
C33: underskrift arbejdsgiver
C36: underskrift medarbejder

Sheet 6
A1: KØREBOG | B1: =Info!B1 -> 0 | C1: =Info!AE2 -> CPR-nummer | E1: Reg. nr. | F1: =Info!D7 -> 0
A3: Dato | B3: Til | C3: Formål | D3: Fra | E3: Til | F3: Km
F4: =IF(E4="","",E4-D4)
F5: =IF(E5="","",E5-D5)
F6: =IF(E6="","",E6-D6)
F7: =IF(E7="","",E7-D7)
F8: =IF(E8="","",E8-D8)
F9: =IF(E9="","",E9-D9)
F10: =IF(E10="","",E10-D10)
F11: =IF(E11="","",E11-D11)
F12: =IF(E12="","",E12-D12)
F13: =IF(E13="","",E13-D13)
F14: =IF(E14="","",E14-D14)
F15: =IF(E15="","",E15-D15)
... F23: =IF(E23="","",E23-D23)
E24: Km i alt | F24: =SUM(F4:F23) -> 0
C26: Km denne periode med høj sats | D26: =Info!I12 -> 0 | E26: =Info!B7 -> 3.94 | F26: =D26*E26 -> 0
C27: Km denne periode med lav sats | D27: =Info!J12 -> 0 | E27: =Info!C7 -> 2.28 | F27: =D27*E27 -> 0
D29: =SUM(D26:D28) -> 0 | F29: =SUM(F26:F28) -> 0
C33: underskrift arbejdsgiver
C36: underskrift medarbejder

Sheet 7
A1: KØREBOG | B1: =Info!B1 -> 0 | C1: =Info!AE2 -> CPR-nummer | E1: Reg. nr. | F1: =Info!D7 -> 0
A3: Dato | B3: Til | C3: Formål | D3: Fra | E3: Til | F3: Km
F4: =IF(E4="","",E4-D4)
F5: =IF(E5="","",E5-D5)
F6: =IF(E6="","",E6-D6)
F7: =IF(E7="","",E7-D7)
F8: =IF(E8="","",E8-D8)
F9: =IF(E9="","",E9-D9)
F10: =IF(E10="","",E10-D10)
F11: =IF(E11="","",E11-D11)
F12: =IF(E12="","",E12-D12)
F13: =IF(E13="","",E13-D13)
F14: =IF(E14="","",E14-D14)
F15: =IF(E15="","",E15-D15)
... F23: =IF(E23="","",E23-D23)
E24: Km i alt | F24: =SUM(F4:F23) -> 0
C26: Km denne periode med høj sats | D26: =Info!I13 -> 0 | E26: =Info!B7 -> 3.94 | F26: =D26*E26 -> 0
C27: Km denne periode med lav sats | D27: =Info!J13 -> 0 | E27: =Info!C7 -> 2.28 | F27: =D27*E27 -> 0
D29: =SUM(D26:D28) -> 0 | F29: =SUM(F26:F28) -> 0
C33: underskrift arbejdsgiver
C36: underskrift medarbejder

Sheet 8
A1: KØREBOG | B1: =Info!B1 -> 0 | C1: =Info!AE2 -> CPR-nummer | E1: Reg. nr. | F1: =Info!D7 -> 0
A3: Dato | B3: Til | C3: Formål | D3: Fra | E3: Til | F3: Km
F4: =IF(E4="","",E4-D4)
F5: =IF(E5="","",E5-D5)
F6: =IF(E6="","",E6-D6)
F7: =IF(E7="","",E7-D7)
F8: =IF(E8="","",E8-D8)
F9: =IF(E9="","",E9-D9)
F10: =IF(E10="","",E10-D10)
F11: =IF(E11="","",E11-D11)
F12: =IF(E12="","",E12-D12)
F13: =IF(E13="","",E13-D13)
F14: =IF(E14="","",E14-D14)
F15: =IF(E15="","",E15-D15)
... F23: =IF(E23="","",E23-D23)
E24: Km i alt | F24: =SUM(F4:F23) -> 0
C26: Km denne periode med høj sats | D26: =Info!I14 -> 0 | E26: =Info!B7 -> 3.94 | F26: =D26*E26 -> 0
C27: Km denne periode med lav sats | D27: =Info!J14 -> 0 | E27: =Info!C7 -> 2.28 | F27: =D27*E27 -> 0
D29: =SUM(D26:D28) -> 0 | F29: =SUM(F26:F28) -> 0
C33: underskrift arbejdsgiver
C36: underskrift medarbejder

Sheet 9
A1: KØREBOG | B1: =Info!B1 -> 0 | C1: =Info!AE2 -> CPR-nummer | E1: Reg. nr. | F1: =Info!D7 -> 0
A3: Dato | B3: Til | C3: Formål | D3: Fra | E3: Til | F3: Km
F4: =IF(E4="","",E4-D4)
F5: =IF(E5="","",E5-D5)
F6: =IF(E6="","",E6-D6)
F7: =IF(E7="","",E7-D7)
F8: =IF(E8="","",E8-D8)
F9: =IF(E9="","",E9-D9)
F10: =IF(E10="","",E10-D10)
F11: =IF(E11="","",E11-D11)
F12: =IF(E12="","",E12-D12)
F13: =IF(E13="","",E13-D13)
F14: =IF(E14="","",E14-D14)
F15: =IF(E15="","",E15-D15)
... F23: =IF(E23="","",E23-D23)
E24: Km i alt | F24: =SUM(F4:F23) -> 0
C26: Km denne periode med høj sats | D26: =Info!I15 -> 0 | E26: =Info!B7 -> 3.94 | F26: =D26*E26 -> 0
C27: Km denne periode med lav sats | D27: =Info!J15 -> 0 | E27: =Info!C7 -> 2.28 | F27: =D27*E27 -> 0
D29: =SUM(D26:D28) -> 0 | F29: =SUM(F26:F28) -> 0
C33: underskrift arbejdsgiver
C36: underskrift medarbejder

Sheet 10
A1: KØREBOG | B1: =Info!B1 -> 0 | C1: =Info!AE2 -> CPR-nummer | E1: Reg. nr. | F1: =Info!D7 -> 0
A3: Dato | B3: Til | C3: Formål | D3: Fra | E3: Til | F3: Km
F4: =IF(E4="","",E4-D4)
F5: =IF(E5="","",E5-D5)
F6: =IF(E6="","",E6-D6)
F7: =IF(E7="","",E7-D7)
F8: =IF(E8="","",E8-D8)
F9: =IF(E9="","",E9-D9)
F10: =IF(E10="","",E10-D10)
F11: =IF(E11="","",E11-D11)
F12: =IF(E12="","",E12-D12)
F13: =IF(E13="","",E13-D13)
F14: =IF(E14="","",E14-D14)
F15: =IF(E15="","",E15-D15)
... F23: =IF(E23="","",E23-D23)
E24: Km i alt | F24: =SUM(F4:F23) -> 0
C26: Km denne periode med høj sats | D26: =Info!I16 -> 0 | E26: =Info!B7 -> 3.94 | F26: =D26*E26 -> 0
C27: Km denne periode med lav sats | D27: =Info!J16 -> 0 | E27: =Info!C7 -> 2.28 | F27: =D27*E27 -> 0
D29: =SUM(D26:D28) -> 0 | F29: =SUM(F26:F28) -> 0
C33: underskrift arbejdsgiver
C36: underskrift medarbejder

Sheet 11
A1: KØREBOG | B1: =Info!B1 -> 0 | C1: =Info!AE2 -> CPR-nummer | E1: Reg. nr. | F1: =Info!D7 -> 0
A3: Dato | B3: Til | C3: Formål | D3: Fra | E3: Til | F3: Km
F4: =IF(E4="","",E4-D4)
F5: =IF(E5="","",E5-D5)
F6: =IF(E6="","",E6-D6)
F7: =IF(E7="","",E7-D7)
F8: =IF(E8="","",E8-D8)
F9: =IF(E9="","",E9-D9)
F10: =IF(E10="","",E10-D10)
F11: =IF(E11="","",E11-D11)
F12: =IF(E12="","",E12-D12)
F13: =IF(E13="","",E13-D13)
F14: =IF(E14="","",E14-D14)
F15: =IF(E15="","",E15-D15)
... F23: =IF(E23="","",E23-D23)
E24: Km i alt | F24: =SUM(F4:F23) -> 0
C26: Km denne periode med høj sats | D26: =Info!I17 -> 0 | E26: =Info!B7 -> 3.94 | F26: =D26*E26 -> 0
C27: Km denne periode med lav sats | D27: =Info!J17 -> 0 | E27: =Info!C7 -> 2.28 | F27: =D27*E27 -> 0
D29: =SUM(D26:D28) -> 0 | F29: =SUM(F26:F28) -> 0
C33: underskrift arbejdsgiver
C36: underskrift medarbejder

Sheet 12
A1: KØREBOG | B1: =Info!B1 -> 0 | C1: =Info!AE2 -> CPR-nummer | E1: Reg. nr. | F1: =Info!D7 -> 0
A3: Dato | B3: Til | C3: Formål | D3: Fra | E3: Til | F3: Km
F4: =IF(E4="","",E4-D4)
F5: =IF(E5="","",E5-D5)
F6: =IF(E6="","",E6-D6)
F7: =IF(E7="","",E7-D7)
F8: =IF(E8="","",E8-D8)
F9: =IF(E9="","",E9-D9)
F10: =IF(E10="","",E10-D10)
F11: =IF(E11="","",E11-D11)
F12: =IF(E12="","",E12-D12)
F13: =IF(E13="","",E13-D13)
F14: =IF(E14="","",E14-D14)
F15: =IF(E15="","",E15-D15)
... F23: =IF(E23="","",E23-D23)
E24: Km i alt | F24: =SUM(F4:F23) -> 0
C26: Km denne periode med høj sats | D26: =Info!I18 -> 0 | E26: =Info!B7 -> 3.94 | F26: =D26*E26 -> 0
C27: Km denne periode med lav sats | D27: =Info!J18 -> 0 | E27: =Info!C7 -> 2.28 | F27: =D27*E27 -> 0
D29: =SUM(D26:D28) -> 0 | F29: =SUM(F26:F28) -> 0
C33: underskrift arbejdsgiver
C36: underskrift medarbejder

Sheet 13
A1: KØREBOG | B1: =Info!B1 -> 0 | C1: =Info!AE2 -> CPR-nummer | E1: Reg. nr. | F1: =Info!D7 -> 0
A3: Dato | B3: Til | C3: Formål | D3: Fra | E3: Til | F3: Km
F4: =IF(E4="","",E4-D4)
F5: =IF(E5="","",E5-D5)
F6: =IF(E6="","",E6-D6)
F7: =IF(E7="","",E7-D7)
F8: =IF(E8="","",E8-D8)
F9: =IF(E9="","",E9-D9)
F10: =IF(E10="","",E10-D10)
F11: =IF(E11="","",E11-D11)
F12: =IF(E12="","",E12-D12)
F13: =IF(E13="","",E13-D13)
F14: =IF(E14="","",E14-D14)
F15: =IF(E15="","",E15-D15)
... F23: =IF(E23="","",E23-D23)
E24: Km i alt | F24: =SUM(F4:F23) -> 0
C26: Km denne periode med høj sats | D26: =Info!I19 -> 0 | E26: =Info!B7 -> 3.94 | F26: =D26*E26 -> 0
C27: Km denne periode med lav sats | D27: =Info!J19 -> 0 | E27: =Info!C7 -> 2.28 | F27: =D27*E27 -> 0
D29: =SUM(D26:D28) -> 0 | F29: =SUM(F26:F28) -> 0
C33: underskrift arbejdsgiver
C36: underskrift medarbejder

Sheet 14
A1: KØREBOG | B1: =Info!B1 -> 0 | C1: =Info!AE2 -> CPR-nummer | E1: Reg. nr. | F1: =Info!D7 -> 0
A3: Dato | B3: Til | C3: Formål | D3: Fra | E3: Til | F3: Km
F4: =IF(E4="","",E4-D4)
F5: =IF(E5="","",E5-D5)
F6: =IF(E6="","",E6-D6)
F7: =IF(E7="","",E7-D7)
F8: =IF(E8="","",E8-D8)
F9: =IF(E9="","",E9-D9)
F10: =IF(E10="","",E10-D10)
F11: =IF(E11="","",E11-D11)
F12: =IF(E12="","",E12-D12)
F13: =IF(E13="","",E13-D13)
F14: =IF(E14="","",E14-D14)
F15: =IF(E15="","",E15-D15)
... F23: =IF(E23="","",E23-D23)
E24: Km i alt | F24: =SUM(F4:F23) -> 0
C26: Km denne periode med høj sats | D26: =Info!I20 -> 0 | E26: =Info!B7 -> 3.94 | F26: =D26*E26 -> 0
C27: Km denne periode med lav sats | D27: =Info!J20 -> 0 | E27: =Info!C7 -> 2.28 | F27: =D27*E27 -> 0
D29: =SUM(D26:D28) -> 0 | F29: =SUM(F26:F28) -> 0
C33: underskrift arbejdsgiver
C36: underskrift medarbejder

Sheet 15
A1: KØREBOG | B1: =Info!B1 -> 0 | C1: =Info!AE2 -> CPR-nummer | E1: Reg. nr. | F1: =Info!D7 -> 0
A3: Dato | B3: Til | C3: Formål | D3: Fra | E3: Til | F3: Km
F4: =IF(E4="","",E4-D4)
F5: =IF(E5="","",E5-D5)
F6: =IF(E6="","",E6-D6)
F7: =IF(E7="","",E7-D7)
F8: =IF(E8="","",E8-D8)
F9: =IF(E9="","",E9-D9)
F10: =IF(E10="","",E10-D10)
F11: =IF(E11="","",E11-D11)
F12: =IF(E12="","",E12-D12)
F13: =IF(E13="","",E13-D13)
F14: =IF(E14="","",E14-D14)
F15: =IF(E15="","",E15-D15)
... F23: =IF(E23="","",E23-D23)
E24: Km i alt | F24: =SUM(F4:F23) -> 0
C26: Km denne periode med høj sats | D26: =Info!I21 -> 0 | E26: =Info!B7 -> 3.94 | F26: =D26*E26 -> 0
C27: Km denne periode med lav sats | D27: =Info!J21 -> 0 | E27: =Info!C7 -> 2.28 | F27: =D27*E27 -> 0
D29: =SUM(D26:D28) -> 0 | F29: =SUM(F26:F28) -> 0
C33: underskrift arbejdsgiver
C36: underskrift medarbejder

Sheet 16
A1: KØREBOG | B1: =Info!B1 -> 0 | C1: =Info!AE2 -> CPR-nummer | E1: Reg. nr. | F1: =Info!D7 -> 0
A3: Dato | B3: Til | C3: Formål | D3: Fra | E3: Til | F3: Km
F4: =IF(E4="","",E4-D4)
F5: =IF(E5="","",E5-D5)
F6: =IF(E6="","",E6-D6)
F7: =IF(E7="","",E7-D7)
F8: =IF(E8="","",E8-D8)
F9: =IF(E9="","",E9-D9)
F10: =IF(E10="","",E10-D10)
F11: =IF(E11="","",E11-D11)
F12: =IF(E12="","",E12-D12)
F13: =IF(E13="","",E13-D13)
F14: =IF(E14="","",E14-D14)
F15: =IF(E15="","",E15-D15)
... F23: =IF(E23="","",E23-D23)
E24: Km i alt | F24: =SUM(F4:F23) -> 0
C26: Km denne periode med høj sats | D26: =Info!I22 -> 0 | E26: =Info!B7 -> 3.94 | F26: =D26*E26 -> 0
C27: Km denne periode med lav sats | D27: =Info!J22 -> 0 | E27: =Info!C7 -> 2.28 | F27: =D27*E27 -> 0
D29: =SUM(D26:D28) -> 0 | F29: =SUM(F26:F28) -> 0
C33: underskrift arbejdsgiver
C36: underskrift medarbejder

Sheet 17
A1: KØREBOG | B1: =Info!B1 -> 0 | C1: =Info!AE2 -> CPR-nummer | E1: Reg. nr. | F1: =Info!D7 -> 0
A3: Dato | B3: Til | C3: Formål | D3: Fra | E3: Til | F3: Km
F4: =IF(E4="","",E4-D4)
F5: =IF(E5="","",E5-D5)
F6: =IF(E6="","",E6-D6)
F7: =IF(E7="","",E7-D7)
F8: =IF(E8="","",E8-D8)
F9: =IF(E9="","",E9-D9)
F10: =IF(E10="","",E10-D10)
F11: =IF(E11="","",E11-D11)
F12: =IF(E12="","",E12-D12)
F13: =IF(E13="","",E13-D13)
F14: =IF(E14="","",E14-D14)
F15: =IF(E15="","",E15-D15)
... F23: =IF(E23="","",E23-D23)
E24: Km i alt | F24: =SUM(F4:F23) -> 0
C26: Km denne periode med høj sats | D26: =Info!I23 -> 0 | E26: =Info!B7 -> 3.94 | F26: =D26*E26 -> 0
C27: Km denne periode med lav sats | D27: =Info!J23 -> 0 | E27: =Info!C7 -> 2.28 | F27: =D27*E27 -> 0
D29: =SUM(D26:D28) -> 0 | F29: =SUM(F26:F28) -> 0
C33: underskrift arbejdsgiver
C36: underskrift medarbejder

Sheet 18
A1: KØREBOG | B1: =Info!B1 -> 0 | C1: =Info!AE2 -> CPR-nummer | E1: Reg. nr. | F1: =Info!D7 -> 0
A3: Dato | B3: Til | C3: Formål | D3: Fra | E3: Til | F3: Km
F4: =IF(E4="","",E4-D4)
F5: =IF(E5="","",E5-D5)
F6: =IF(E6="","",E6-D6)
F7: =IF(E7="","",E7-D7)
F8: =IF(E8="","",E8-D8)
F9: =IF(E9="","",E9-D9)
F10: =IF(E10="","",E10-D10)
F11: =IF(E11="","",E11-D11)
F12: =IF(E12="","",E12-D12)
F13: =IF(E13="","",E13-D13)
F14: =IF(E14="","",E14-D14)
F15: =IF(E15="","",E15-D15)
... F23: =IF(E23="","",E23-D23)
E24: Km i alt | F24: =SUM(F4:F23) -> 0
C26: Km denne periode med høj sats | D26: =Info!I24 -> 0 | E26: =Info!B7 -> 3.94 | F26: =D26*E26 -> 0
C27: Km denne periode med lav sats | D27: =Info!J24 -> 0 | E27: =Info!C7 -> 2.28 | F27: =D27*E27 -> 0
D29: =SUM(D26:D28) -> 0 | F29: =SUM(F26:F28) -> 0
C33: underskrift arbejdsgiver
C36: underskrift medarbejder

Sheet 19
A1: KØREBOG | B1: =Info!B1 -> 0 | C1: =Info!AE2 -> CPR-nummer | E1: Reg. nr. | F1: =Info!D7 -> 0
A3: Dato | B3: Til | C3: Formål | D3: Fra | E3: Til | F3: Km
F4: =IF(E4="","",E4-D4)
F5: =IF(E5="","",E5-D5)
F6: =IF(E6="","",E6-D6)
F7: =IF(E7="","",E7-D7)
F8: =IF(E8="","",E8-D8)
F9: =IF(E9="","",E9-D9)
F10: =IF(E10="","",E10-D10)
F11: =IF(E11="","",E11-D11)
F12: =IF(E12="","",E12-D12)
F13: =IF(E13="","",E13-D13)
F14: =IF(E14="","",E14-D14)
F15: =IF(E15="","",E15-D15)
... F23: =IF(E23="","",E23-D23)
E24: Km i alt | F24: =SUM(F4:F23) -> 0
C26: Km denne periode med høj sats | D26: =Info!I25 -> 0 | E26: =Info!B7 -> 3.94 | F26: =D26*E26 -> 0
C27: Km denne periode med lav sats | D27: =Info!J25 -> 0 | E27: =Info!C7 -> 2.28 | F27: =D27*E27 -> 0
D29: =SUM(D26:D28) -> 0 | F29: =SUM(F26:F28) -> 0
C33: underskrift arbejdsgiver
C36: underskrift medarbejder

Sheet 20
A1: KØREBOG | B1: =Info!B1 -> 0 | C1: =Info!AE2 -> CPR-nummer | E1: Reg. nr. | F1: =Info!D7 -> 0
A3: Dato | B3: Til | C3: Formål | D3: Fra | E3: Til | F3: Km
F4: =IF(E4="","",E4-D4)
F5: =IF(E5="","",E5-D5)
F6: =IF(E6="","",E6-D6)
F7: =IF(E7="","",E7-D7)
F8: =IF(E8="","",E8-D8)
F9: =IF(E9="","",E9-D9)
F10: =IF(E10="","",E10-D10)
F11: =IF(E11="","",E11-D11)
F12: =IF(E12="","",E12-D12)
F13: =IF(E13="","",E13-D13)
F14: =IF(E14="","",E14-D14)
F15: =IF(E15="","",E15-D15)
... F23: =IF(E23="","",E23-D23)
E24: Km i alt | F24: =SUM(F4:F23) -> 0
C26: Km denne periode med høj sats | D26: =Info!I26 -> 0 | E26: =Info!B7 -> 3.94 | F26: =D26*E26 -> 0
C27: Km denne periode med lav sats | D27: =Info!J26 -> 0 | E27: =Info!C7 -> 2.28 | F27: =D27*E27 -> 0
D29: =SUM(D26:D28) -> 0 | F29: =SUM(F26:F28) -> 0
C33: underskrift arbejdsgiver
C36: underskrift medarbejder
